BEGIN:VCALENDAR
VERSION:2.0
CALSCALE:GREGORIAN
PRODID:adamgibbons/ics
METHOD:PUBLISH
X-PUBLISHED-TTL:PT1H
BEGIN:VEVENT
UID:118@tfnb.ca
SUMMARY:FnB Allan Gardens Groceries
DTSTAMP:20260419T121318Z
DTSTART:20260419T160000Z
DTEND:20260419T173000Z
URL:https://tfnb.ca/event/fnb-allan-gardens-groceries-10
LOCATION:Allan Gardens Park (North Gate) - Carlton & Sherbourne
STATUS:CONFIRMED
CATEGORIES:allan gardens,distro,groceries,meal provided
END:VEVENT
END:VCALENDAR
